BEGIN:VCALENDAR
VERSION:2.0
PRODID:-//AAS 博華升學 - ECPv6.15.20//NONSGML v1.0//EN
CALSCALE:GREGORIAN
METHOD:PUBLISH
X-WR-CALNAME:AAS 博華升學
X-ORIGINAL-URL:https://aas.com.hk
X-WR-CALDESC:Events for AAS 博華升學
REFRESH-INTERVAL;VALUE=DURATION:PT1H
X-Robots-Tag:noindex
X-PUBLISHED-TTL:PT1H
BEGIN:VTIMEZONE
TZID:Asia/Hong_Kong
BEGIN:STANDARD
TZOFFSETFROM:+0800
TZOFFSETTO:+0800
TZNAME:HKT
DTSTART:20250101T000000
END:STANDARD
END:VTIMEZONE
BEGIN:VEVENT
DTSTART;TZID=Asia/Hong_Kong:20260225T100000
DTEND;TZID=Asia/Hong_Kong:20260515T160000
DTSTAMP:20260420T184351
CREATED:20260410T083214Z
LAST-MODIFIED:20260410T083214Z
UID:18060-1772013600-1778860800@aas.com.hk
SUMMARY:英國中學招生週 – 與學校代表會面．歡迎家長前來了解（持續更新）
DESCRIPTION:2026 年時間表詳情見下表\n活動地點： \n旺角辦事處 (旺角雅蘭中心 2 期 17 樓 1708 室)／\n銅鑼灣辦事處 ( 銅鑼灣銅鑼灣廣場一期 21樓 2103室 ) \n活動對象\n小六或以上學生及家長 \n網上報名活動【英國中學已接受入學申請】英國中學不僅學術水平卓越，為升讀各地的頂尖學府奠定穩固基礎，中學更可透過小班教學，為學生提供緊貼的關注，英國中學著重啟發學生的批判性思維、培養獨立解難的能力，並學生更能在沉浸式的英語環境中，建立近乎母語的語言優勢及國際視野。 \n為讓家長和同學能更深入、更直接地了解各校特色，我們不定時邀得英國中學的官方代表親臨香港，提供一對一會面及諮詢機會。屆時，您可以直接向校方代表深入了解其課程特色、最新收生要求、校園文化、寄宿生活等第一手資訊，並為您子女的情況獲取最個人化的升學建議。 \n位置有限，機會難得。請即預約，與心儀中學的代表面對面交流，為子女的升學規劃踏出關鍵的一步！ \n活動內容\n英國中學及院校代表親臨香港講解\n你可以了解到： \n．英國教育制度\n．英國中學課程、科目特點\n．入學考試、面試技巧及申請程序\n．學費及生活費預算 \n同學及家長可與升學顧問一對一諮詢，立即規劃自己的升學路！ \n＞＞學校到訪時間表（持續更新）\n有些中學到訪或已結束或閣下未能出席，家長如有意了解，我們可安排個別諮詢，或協助安排其他時間與個別學校面談 \n5 月\n\n\n\n日期｜時間\n學校\n\n\n\n\n5 月 15 日 (三) \n15:00 – 16:00 \n旺角\nLoughborough Grammar School \nLoughborough｜男子寄宿中學\n\n\n\n網上報名活動—–《已完結》—–如家長或學生對以下英國學校有興趣，或有意與學校代表／顧問進行諮詢、面試等，歡迎向我們查詢。 \n1 月\n\n\n\n日期｜時間\n學校\n\n\n\n\n1 月 26 日 (一) \n10:00 – 11:00 \n旺角\nCardiff Sixth Form College \nCardiff｜男女子寄宿中學\n\n\n\n3 月\n\n\n\n日期｜時間\n學校\n\n\n\n\n3 月 3 日 (二) \n11:00 – 12:00 \n旺角\nKensington Park School \nLondon｜男女子中學
URL:https://aas.com.hk/event/2026-uk-hs-info-and-interview-week
LOCATION:旺角、銅鑼灣辦事處
CATEGORIES:一對一諮詢
ATTACH;FMTTYPE=image/webp:https://aas.com.hk/wp-content/uploads/2025/10/20251015_uk-hs-week_720x360-11-2.webp
END:VEVENT
BEGIN:VEVENT
DTSTART;TZID=Asia/Hong_Kong:20260425T140000
DTEND;TZID=Asia/Hong_Kong:20260425T150000
DTSTAMP:20260420T184351
CREATED:20260410T053548Z
LAST-MODIFIED:20260410T053756Z
UID:17973-1777125600-1777129200@aas.com.hk
SUMMARY:澳洲八大大學講座 - 如何在放榜前奪取 Offer？
DESCRIPTION:2026 年 4 月 25 日 (六) \n14:00 – 15:00 \n旺角辦事處　(旺角雅蘭中心 2 期 17 樓 1708 室) \n活動對象\n．中五或以上學生及家長\n．有意澳洲升學的學生 \n網上報名想在放榜前穩拿「澳洲八大」Offer？隨著澳洲留學申請進入 2027 年度的關鍵規劃期，掌握最新的申請流程、收生要求，及名額變動是成功入讀大學的基礎。澳洲「八大院校 (Group of Eight)」不僅是全球前 100 強名校，更是香港學生的升學首選。 \n本次講座將帶你深入剖析 2027 年澳洲升學的最新入學趨勢，助你利用 Predicted Grade 搶佔先機！ \n無論是目標為高難度的醫療專科或熱門搶手學科，還是希望透過銜接課程晉升名校，本講座將提供一站式的數據分析與部署建議，助您在放榜前鎖定心儀 Offer。 \n把握機會，請即登記參加活動！ \n講座內容\n(1)澳洲八大 (Go8) 最新入學趨勢與門檻\n．院校全覆蓋：深入講解澳洲八大成員校（包括 Uni of Melbourne\, Uni of Sydney\, UNSW\, Monash\, Uni of Queensland\, ANU\, UWA\, Uni of Adelaide）的 2027 年入學政策\n．分數要求一覽： 拆解不同學制的直入要求：\nDSE： 15分+．IB： 24.5+．A-Levels： DDE+\n關鍵機制： 說明如何憑 Predicted Grade 申請，獲取院校直接取錄的成功策略\n(2) 2027 申請攻略 — 大學最新申請流程、學額及收生要求：\n．醫療專科：\n言語治療、職業治療、物理治療、醫科、牙醫、獸醫、護理、醫務化驗、足病診療、藥劑學、營養學、放射學等\n．其他優勢學科： 工程、商科、航空、媒體傳訊、社工、法律、資訊科技及運動科學等\n．專業認證保障： 分析相關學位在香港的認可地位，確保學生畢業後可銜接本地註冊執業\n．彈性錄取： 揭秘部分專科在無先修學科要求下的申請路徑 \n(3)多元升學途徑：銜接課程規劃：\n．針對未達直入要求同學的替代方案：\nDiploma (文憑課程)： DSE 11分、IB 24 分、A-Levels DDE 起，畢業後直升大學二年級\nFoundation (基礎班)： 適合中五畢業生，無縫升讀大學一年級 \n(4) 畢業前景與移民佈局：\n．就業優勢： 分析澳洲高需求職業與易搵工學科的發展前景\n．移民配套： 解讀 485 畢業生簽證及 Hong Kong Stream ，分析如何透過留學路徑達成澳洲永久居留權 (PR) 的移民規劃 \n網上報名致電報名
URL:https://aas.com.hk/event/20260425_au-go8-sem
CATEGORIES:實體講座
ATTACH;FMTTYPE=image/webp:https://aas.com.hk/wp-content/uploads/2026/04/20260425_au-go8-sem_AAS-I-720x360-1.webp
END:VEVENT
BEGIN:VEVENT
DTSTART;TZID=Asia/Hong_Kong:20260425T140000
DTEND;TZID=Asia/Hong_Kong:20260425T150000
DTSTAMP:20260420T184351
CREATED:20260410T102611Z
LAST-MODIFIED:20260410T102611Z
UID:18046-1777125600-1777129200@aas.com.hk
SUMMARY:英國醫療專科申請及 UCAS 聯招講座 - 2026 年入學專場
DESCRIPTION:2026 年 4 月 25 日 (六) \n14:00 – 15:00 \n銅鑼灣辦事處　(銅鑼灣軒尼詩道 489 號銅鑼灣廣場一期 21 樓 2103 室) \n活動對象\n．中五或以上學生及家長\n．有意英國升學／升讀醫療專科的學生 \n網上報名英國醫療專科申請攻略直入+銜接課程 雙保險方案醫療專業（如物理治療、放射治療）起薪點高、就業穩定、專業認可度高而成為不少學生的熱門之選。然而，面對香港相關學科收生競爭激烈的現狀，英國大學醫療專科不但選擇多，收生要求彈性，學生更可同時規劃直入及銜接課程雙保險途徑，做定最完善的 Back-up plan！ \n本次講座專為計劃 2026 年入學的同學設計，重點解構英國大學如何透過彈性的入學要求（DSE 222+ 起），協助學生銜接大學的專業醫療學位課程。講座將涵蓋從 UCAS 聯招策略到面試準備的全方位指導，將講解的雙保險方案，更有利同學能在 2026 年能順利搶佔 Offer。 \n把握機會，請即登記參加活動！ \n講座內容\n(1) 2026 年入學召集：專業醫療學科申請攻略\n．復康專科全解構： 涵蓋物理治療、職業治療、護理、營養學、放射治療、藥劑學等學科的課程特點\n．最新最準入學要求、畢業前景、執業要求\n．面試技巧： 揭秘英國醫護面試的常見問題與準備技巧。 \n(2) 靈活銜接機制：大學升學路徑：\n．介紹專為國際學生設計的醫療銜接課程，幫助未達大學直入要求的同學接軌\n最低收生要求：\nDSE： 222+\nIB： 14+\nA-Level： DDD+ \n(3)英國熱門大學特點與學習環境分析：\n．名校導覽： 分析包括 Birmingham\, Nottingham\, UWE\, Brighton\, Liverpool 及 York 等大學的學習配套、校園設施與實習機會 \n(4) UCAS 2026/2027 申請全攻略：\n．Personal Statement (PS) 亮點： 指導如何撰寫具吸引力的個人陳述以提升命中率\n．流程懶人包： 詳細列出 UCAS 申請流程、必備文件及關鍵時間線 \n(5) 講座後即場申請支援\n．一對一專業諮詢： 講座後設有顧問諮詢環節，即場為同學進行評估及規劃建議\n．即場申請服務： 專人指導 UCAS 報名流程，並提供最新獎學金資訊 \n網上報名致電報名
URL:https://aas.com.hk/event/20260425_uk-uni-health-science-ucas-sem
CATEGORIES:實體講座
ATTACH;FMTTYPE=image/webp:https://aas.com.hk/wp-content/uploads/2026/04/20260425_uk-uni-health-science-ucas-sem_720x360.webp
END:VEVENT
BEGIN:VEVENT
DTSTART;TZID=Asia/Hong_Kong:20260430T180000
DTEND;TZID=Asia/Hong_Kong:20260430T190000
DTSTAMP:20260420T184351
CREATED:20260417T050458Z
LAST-MODIFIED:20260417T050458Z
UID:18125-1777572000-1777575600@aas.com.hk
SUMMARY:澳洲 Monash University 醫科及醫療專科講座 - 大學代表來港講解
DESCRIPTION:2026 年 4 月 30 日 (四) \n18:00 – 19:00 \n銅鑼灣辦事處　(銅鑼灣軒尼詩道 489 號銅鑼灣廣場一期 21 樓 2103 室) \n活動對象\n．中五或以上學生及家長\n．有意澳洲升學／升讀醫科、醫療專科的學生 \n網上報名大學代表講解醫學與醫療專科Monash University 作為澳洲八大名校，更是QS 全球 Top 36 的大學，其醫學、護理及健康科學學院 (Faculty of Medicine\, Nursing and Health Sciences) 全球排名前列，當中的醫學系已獲納入香港承認醫學資格名單，這意味著學生畢業後可循特定路徑回港執業，為前途加上「雙保險」。 \n本次講座特別邀請大學學系代表 – Mr. Tim Gawne (Manager\, Student Recruitment\, Faculty of Medicine\, Nursing and Health Sciences) 親臨，詳細解構醫學與各類復康醫療專科的入學準則，並針對 DSE、IB 及 A-Level 學生提供精確的申請指導。 \n把握機會，請即登記參加活動！ \n講座內容\n醫科、復康醫療資訊全覆蓋：醫科、物理治療、職業治療、言語治療、放射學、營養學、藥劑學、生物醫學等 \n(1) 最新收生要求（DSE／IB／A-Level） \n(2) Monash 大學醫療專科學院優勢 \n(3)各專科的專業資格及執業要求 \n(4) 畢業前景及留澳工作發展機會 \n(5) 2027/2028 入學申請須知 \n(6) 講座後即場申請支援\n．一對一專業諮詢： 講座後設有顧問諮詢環節，即場為同學進行評估及規劃建議 \n網上報名致電報名
URL:https://aas.com.hk/event/20260430_au-uni-monash-faculty-medicine-nursing-health-sciences-sem
CATEGORIES:實體講座
ATTACH;FMTTYPE=image/webp:https://aas.com.hk/wp-content/uploads/2026/04/20260430_au-uni-monash-faculty-medicine-nursing-health-sciences-sem_720x360.webp
END:VEVENT
BEGIN:VEVENT
DTSTART;TZID=Asia/Hong_Kong:20260502T120000
DTEND;TZID=Asia/Hong_Kong:20260503T170000
DTSTAMP:20260420T184351
CREATED:20260409T073011Z
LAST-MODIFIED:20260420T053723Z
UID:17811-1777723200-1777827600@aas.com.hk
SUMMARY:【英澳加 大學聯招 】免費入場｜逾 100 所院校參展．即場諮詢及招生
DESCRIPTION:2026 年 5 月 2-3 日 (六、日)\n2-3 May 2026 (SAT-SUN) \n12:00 – 17:00 \n尖沙咀馬哥孛羅香港酒店 4 樓\n4/F\, Marco Polo Hongkong Hotel\, TST \n英國、澳洲、加拿大 大學聯招公開試後的升學導航 精準規劃 一步到位\n日期：2026 年 5 月 2-3 日 （星期六、日）\n時間：下午 12 時 – 5 時\n地點：尖沙咀 馬哥孛羅香港酒店 4 樓 （港鐵尖沙咀/尖東站 L5 或 L6 出口）\n對象：中五、中六學生 (DSE、IB、A-level)、學士、副學士及高級文憑學生及家長\nDate: 2-3 May 2026 (SAT-SUN)\nTime: 12:00 – 5:00 PM\nVenue: 4/F\, Marco Polo Hongkong Hotel\, TST\nFor: DSE\, IB\, GCSE\, A-Level\, Bachelor\, Asso\, HD Students & Parents \n報名參加展覽\n一站式升學展．度身訂造最合適留學方案一站式升學展．\n度身訂造最合適留學方案 \n\n\n逾 100 所院校參加\n\n包括世界 Top 100、澳洲八大、英國 Russell Group 及 Top 30 大學、加拿大院校等著名院校及銜接課程\n\n\n\n一對一面談・招生\n\n收生主任親自講解最新準確學校資訊、學額及最新獎學金，並即場面試、收生，及出 Offer\n\n\n\n免 UCAS 申請費\n\n．即場申請免 £28.95 開戶費*\n．講解 Personal Statement 2026 新制應對指南\n\n\n\n熱門醫療專科\n\n醫科、牙醫、獸醫、物理治療、職業治療、放射治療、語言治療、營養學、護理等申請\n\n\n\n多元熱門學科\n\n工程、酒店管理、商科、航空、媒體 / 傳訊、社工、設計、資訊科技、建築、法律、運動科學、人工智能、動畫等\n\n\n\n顧問精準評估\n\n即場按學生成績及興趣等作精準評估，提供選校建議及量身訂造規劃合適方案\n\n\n\n澳洲移民諮詢\n\n駐場註冊移民顧問，免費講解澳洲升學移民 (Hong Kong Stream) 資訊\n\n\n\n全方位資訊\n\n．英國 G5 及 Non-JUPAS 服務\n．牙科、物理治療、職業治療 Shadowing / Professional Workshop\n．澳洲醫療遊學團資訊\n\n\n\n展場限定\n\n．免費 IELTS 模擬考試及評估一次*（須指定日期進行)\n．IELTS 一日全方位應試工作坊課程優惠*：即場報名減 $300，送單對單口語模擬考試，及單對單網上個人化評估和改善建議 (30 mins)\n．Personal Statement Editing 服務優惠*: 外籍老師助您優化個人陳述，即場報名可減免 $300\n\n\n報名參加展覽\n歡迎攜帶成績表，與招生官諮詢及面談 \n現場提供大學學位、基礎課程及文憑課程申請，最快即場獲發取錄信，助你一步到位！ \n參展院校*世界 TOP 100澳洲☑️ 世界 Top 100\n☑️ 澳洲八大\n☑️ 澳洲科技大學聯盟 \n英國及歐洲 ☑️ 世界 Top 100\n☑️ 英國羅素大學集團 (Russell Group) 大學\n☑️ 英國 Top 30 大學 \n加拿大國際教育機構報名參加展覽\n*受條款及細則約束，本中心保留最終釋義及決定權 \n*按此閱讀參展名單 \n延伸閱讀\n🇬🇧 英國 Top 30 大學收生要求 – 三大途徑\n\n\n\n學士 Bachelor\n直入大一 \n\n\n\nDSE433+\nIB30+\nA-LevelsBCC+\n\n\n\n\n\n\n國際一年級 IY1\n升讀大二 \n\n\n\nDSE332+或 完成 F.5\nIB24+\nA-LevelsDEE+\n\n\n\n\n\n可作 Plan B\n\n基礎班 Foundation\n銜接大一 \n\n\n\nDSE211+或 完成 F.5\nIB完成 IB Yr1\nA-Levels完成 GCSEs\n\n\n學科選擇極多，升學率高\n\n\n💡公開試不是唯一出路！Foundation 可助文科生升讀物理治療等醫療專科。報名展覽諮詢\n\n\n🇦🇺 澳洲大學收生要求 – 三大途徑\n\n\n\n學士 Bachelor\n物理治療．獸醫．言語治療．醫學．職業治療．藥劑學．放射治療．視光學 \n\n\n\nDSE (5科)18+\nIB29+\nA-LevelsBCC+\n\n\n\n\n\n\n學士 Bachelor\n工商管理．工程．資訊科技．護理．醫務化驗．航空．創意媒體．設計 \n\n\n\nDSE (5科)14+\nIB25+\nA-LevelsDDD+\n\n\n\n\n\n\n文憑 Diploma\n銜接大二 \n\n\n\nDSE (5科)8+\nIB24+\nA-LevelsDDE+\n\n\n\n\n\n可作Plan B\n\n基礎班 Foundation\n銜接大一 \n\n\n\n學歷完成 F.5\nIB完成 IB Yr1\nA-Levels完成 Yr11\n\n\n無需 DSE 成績，跳過公開試\n\n\n🌟成績未如理想？Diploma 及 Foundation 是你的最佳跳板。 報名展覽諮詢\n\n\n\n🇨🇦 加拿大 大學銜接課程\n\n\n靈活收生\n\n大學銜接課程\n一年銜接課程直升大學 Year 1 / 2 \n\n\n免 PS免校內成績免課外活動\n\nDSE\n223+\nIB\n22+\nA-Levels\nDD+\n\n\n簡單程序．低門檻申請要求\n\n\n\n文章：英國大學大全收生要求、學費 \n文章：澳洲大學大全 收生要求、學費 \n文章：UCAS 2026 申請指南 \n文章：UCAS 常見問題（時間表、選科限制、成績要求、簽證與補錄） \n文章：穩入加拿大大學 － 銜接課程是最強跳板？！ \n文章：低門檻入讀世界百強名校？University of Alberta & UVic 銜接課程全攻略 \n文章：解鎖 QUT 的各個「神科」！ \n 英國、澳洲 Top-Up 學位課程\nAsso／High Dip 同學可出國修讀英國、澳洲的 Top-Up 學位課程，一般只需 GPA 2.5 就可申請，有些更無須 IELTS 要求！ \n課程有很多學科選擇，包括商科、工程學、測量學、科學、建築學、藥劑學、航空學等，報名時更可申請學分豁免，有機會直接入讀大學三年級。留學一至兩年後，同學畢業後不但能「整靚 CV」，提昇競爭力，更可選擇留於當地工作及鋪路移民！ \n按此查看過往學生成功取錄的例子 英國、澳洲碩士課程\n【進修、轉行、鋪路移民的理想選擇】\n最快一年就可增值 CV 更幫到你搵工\n收生要求彈性 無須爆 GPA 都可申請 \n另外，報讀英澳學士／碩士課程 ➡️移民當地\n同學可報讀英國、澳洲學士／碩士課程，畢業後可選擇留於當地工作及鋪路移民。\n🇦🇺 澳洲 485 畢業生簽證及 Hong Kong stream – PR 途徑\n🇬🇧 英國 BNO 簽證及 Graduate Visa \n按此了解澳洲碩士課程｜過往學生取錄例子按此了解英國碩士課程｜過往學生取錄例子按此了解【澳洲升學移民途徑】解鎖你的海外升學路．量身訂造最佳留學計劃\n現場幫你爭取 Offer！報名參加展覽\n參展名單澳洲 Australia\n\nUniversity of Melbourne\nUniversity of New South Wales (UNSW)\nUniversity of Sydney\nMonash University\nUniversity of Queensland\nAustralian National University\nAdelaide University\nQueensland University of Technology (QUT)\nUniversity of Tasmania\nRMIT\nGriffith University\nCurtin University\nMacquarie University\nFlinders University\nUNSW College\nTrinity College\nFlinders University Academy\n\nNavitas: \n\nCharles Sturt University\nCurtin College\nDeakin College\nEdith Cowan College\nEynesbury College\nGriffith College\nLa Trobe College\nSAE University College\nSAIBT\, Western Sydney University\nACAP University College\nUC College at University of Canberra\nWSUIC at Western Sydney University\nCharles Sturt University ( Sydney｜Melbourne)\nTaylors College Sydney (University of Syndey Preparation Programs)\n\nINTO: \n\nUniversity of Western Australia College\n\nKaplan: \n\nUniversity of Adelaide College\nUniversity of Newcastle College of International Education\nMurdoch College\n\n英國及歐洲 United Kingdom & Europe\n\nUniversity of Manchester\nRoyal Holloway\, University of London\nUniversity of Hertfordshire\nUniversity of Southampton\nUniversity of Birmingham\nUniversity of the West of England\, Bristol\nUniversity of East Anglia\nUniversity of Essex\nKeele University\nCoventry University\nUniversity of Exeter\nQueen Mary University of London\nCardiff Sixth Form College\nThe Institute of Education\n\nNavitas: \n\nAnglia Ruskin University\nBirmingham City University\nBrunel University London\nUniversity of Hertfordshire\nUniversity of Portsmouth\nRobert Gordon University\nKeele University\nSwansea University\nManchester Metropolitan University\nUniversity of Plymouth\nThe Hague University of Applied Sciences (THUAS)\nUniversity of Twente\nLancaster University Leipzig\nSRH International College\n\nKaplan: \n\nASU London\nBournemouth University\nCity St George’s\, University of London\nCranfield University\nNottingham Trent University\nQueen Mary University of London\nUniversity of Birmingham\nUniversity of Brighton\nUniversity of Bristol\nUniversity of Essex\nUniversity of Glasgow\nUniversity of Liverpool\nUniversity of Nottingham\nUniversity of Westminster\nUniversity of York\nUWE Bristol\n\nINTO: \n\nQueens’s University Belfast\nUniversity of Stirling\nNewcastle University\nUniversity of East Anglia\nUniversity of Manchester\nUniversity of Exeter\nCity St George’s\, University of London\nLancaster University\nINTO London\nINTO Manchester\n\nOnCampus: \n\nAston University\nLoughborough University\nUniversity of Southampton\nUniversity of Hull\nUniversity of Reading\nLondon South Bank University\nUniversity of Sunderland\nOnCampus UK North\n\nUniversity of Lancashire\nRCSI University of Medicine and Health Sciences\, Ireland\nSt. George’s University\, Grenada\nUniversity of Nicosia\n\n\nOnCampus London\n\nBirkbeck\, University of London\nUniversity of Southampton\nUniversity of Sheffield\nQueen Mary University of London\nUniversity of Bath\nLoughborough University\nCity St George’s\, University of London\nAston University\nRoyal Holloway\, University of London\nRoyal Veterinary College\, University of London\nUniversity of Hull\nGoldsmiths\, University of London\nUniversity of Westminster\nLondon South Bank University\nUniversity of Sunderland\nBrunel\, University of London\n\n\nOnCampus Amsterdam\n\nWittenborg University of Applied Sciences\nUniversity of Amsterdam\n\n\nOnCampus Paris\n\nAivancity School of AI & Data for Business & Society\nKEDGE Business School\nParis School of Business\nESGCI\nLISAA School of Design\nIstituto Marangoni\nIESA Arts and Culture\nInstitut Culinaire de France\nNABA\nDomus Academy\nStrate School of Design\nAtelier Chardon Savard\n\n\nOnCampus Ireland\n\nMaynooth University\nSouth East Technological University (SETU)\nDublin City University\nUniversity of Galway\nMunster Technological University\nSt Patrick’s Pontifical University\nHolmes Institute Dublin\nUniversity College Cork\nUniversity of Limerick\nRoyal Irish Academy of Music\nSt. George’s University\, Grenada\nIndependent College\nRCSI University of Medicine and Health Sciences\, Ireland\nNational College of Ireland\nMedical University – Pleven\nTechnological University of the Shannon\n\n\n\nStudy Group: \n\nUniversity of Bath\nUniversity of Aberdeen\nCardiff University\nDurham University\nUniversity of Huddersfield\nKingston University\nUniversity of Leeds\nLeeds Beckett University\nLiverpool John Moores University\nRoyal Holloway\, University of London\nUniversity of Sheffield\nUniversity of Strathclyde\nUniversity of Surrey\nUniversity of Sussex\nTeesside University\nUniversity College Dublin\nBellerbys Global\n\nCATS Global Schools: \n\nBournemouth Collegiate School\nBosworth Independent School\nCambridge School of Visual & Performing Arts\nCATS Cambridge\n⁠CATS Academy Boston\n\n加拿大 Canada\nNavitas: \n\nWestern International College – Western University\nFraser International College (FIC) – Simon Fraser University\nInternational College of Manitoba – University of Manitoba\nToronto Metropolitan University International College (TMUIC) – Toronto Metropolitan University\nULethbridge International College Calgary (UICC) – University of Lethbridge\nWilfrid Laurier International College – Wilfrid Laurier University\nSAE Institute\n\nKaplan: \n\nUniversity of Alberta\nUniversity of Victoria\n\n報名表格如報名有任何疑問，歡迎向我們查詢！ \n\n\n立即報名
URL:https://aas.com.hk/event/20260502_au-uk-ca-edu-expo
LOCATION:尖沙咀馬哥孛羅香港酒店\, 九龍尖沙咀廣東道 3 號海港城尖沙咀馬哥孛羅香港酒店
CATEGORIES:重點活動,升學展覽
ATTACH;FMTTYPE=image/webp:https://aas.com.hk/wp-content/uploads/2026/04/20260502_int-edu-expo-main-theme_720x360-1.webp
END:VEVENT
END:VCALENDAR